BEGIN:VCALENDAR
VERSION:2.0
PRODID:-//eventon.com NONSGML v1.0//EN
CALSCALE:GREGORIAN
METHOD:PUBLISH
BEGIN:VEVENT
UID:69e79f8db7479
DTSTAMP:20260421T160221Z
DTSTART:20251030T150000Z
DTEND:20251030T190000Z
LOCATION:Parkbühne GeyserHaus Kleiststraße 52
SUMMARY:Halloween im Geys(t)erHaus
DESCRIPTION:Auch im GeyserHaus wird das traditionelle Halloween-Fest gefeie
 rt. Am 30.10. sind Groß und Klein eingeladen\,  sich zu gruseln. Ab 16 Uhr
  ist die Parkbühne GeyserHaus für die Besucherinnen und Besucher geöffne
 t. Neben Bastelstationen wird bestimmt auch der ein oder andere Geist über
  das Gelände der Parkbühne spuken. Am Lagerfeuer und[..]\nhttps://www.gey
 serhaus.de/events/halloween-im-geysterhaus/
URL:https://www.geyserhaus.de/events/halloween-im-geysterhaus/
END:VEVENT
END:VCALENDAR